BEGIN:VCALENDAR
VERSION:2.0
PRODID:-//ChamberMaster//Event Calendar 2.0//EN
METHOD:PUBLISH
X-PUBLISHED-TTL:P3D
REFRESH-INTERVAL:P3D
CALSCALE:GREGORIAN
BEGIN:VEVENT
DTSTART:20260220T200000Z
DTEND:20260220T210000Z
X-MICROSOFT-CDO-ALLDAYEVENT:FALSE
SUMMARY:Los Altos Town Crier - Local Paper\, Local History
DESCRIPTION:The Los Altos Town Crier has been published for over 78 years\, appearing every Wednesday since September 9\, 1947. During that time\, the newspaper has borne witness to local history. Town Crier reporters have covered city council meetings\, reported on local businesses and on real estate developments\, endorsed candidates for office\, shared milestones of local residents such as graduations and school awards\, and so much more. Dennis Young will speak about the history of the newspaper and its hyper-focus on where we live.\n\n\n\nPlease go to the webpage https://tinyurl.com/Feb20Dennis to register for the talk.
X-ALT-DESC;FMTTYPE=text/html:The Los Altos Town Crier has been published for over 78 years\, appearing every Wednesday since September 9\, 1947. During that time\, the newspaper has borne witness to local history. Town Crier reporters have covered city council meetings\, reported on local businesses and on real estate developments\, endorsed candidates for office\, shared milestones of local residents such as graduations and school awards\, and so much more. Dennis Young will speak about the history of the newspaper and its hyper-focus on where we live.<br />\n<br />\nPlease go to the webpage <a href="https://tinyurl.com/Feb20Dennis">https://tinyurl.com/Feb20Dennis</a> to register for the talk.
LOCATION:Los Altos Community Center 97 Hillview Ave. Los Altos\, CA 94022
UID:e.3073.5862
SEQUENCE:3
DTSTAMP:20260421T085603Z
URL:https://business.losaltoschamber.org/events/details/los-altos-town-crier-local-paper-local-history-5862
END:VEVENT

END:VCALENDAR
