BEGIN:VCALENDAR
VERSION:2.0
PRODID:-//ChamberMaster//Event Calendar 2.0//EN
METHOD:PUBLISH
X-PUBLISHED-TTL:P3D
REFRESH-INTERVAL:P3D
CALSCALE:GREGORIAN
BEGIN:VEVENT
DTSTART:20260509T170000Z
DTEND:20260509T190000Z
X-MICROSOFT-CDO-ALLDAYEVENT:FALSE
SUMMARY:Genealogy Workshop
DESCRIPTION:Learn the basics of family history research and start building your family tree! This free workshop will cover family history research strategies\, genealogy websites and databases\, and organizing the information. The attendees will then work in small groups with volunteer instructors to develop individualized strategies for their own family tree research. Class participants will receive some prework to help them start building their family trees. The workshop will be taught by volunteers from the Los Altos Chapter\, Daughters of the American Revolution (DAR). Register in advance with the Los Altos Recreation Department at the listed website.The class is "Introduction to Family History and Genealogy Research".
X-ALT-DESC;FMTTYPE=text/html:Learn the basics of family history research and start building your family tree! This free workshop will cover family history research strategies\, genealogy websites and databases\, and organizing the information. The attendees will then work in small groups with volunteer instructors to develop individualized strategies for their own family tree research. Class participants will receive some prework to help them start building their family trees. The workshop will be taught by volunteers from the Los Altos Chapter\, Daughters of the American Revolution (DAR). Register in advance with the Los Altos Recreation Department at the listed website.The class is &ldquo\;Introduction to Family History and Genealogy Research&rdquo\;.
LOCATION:Los Altos Community Center\, 97 Hillview Avenue\, Los Altos\, Sycamore Room
UID:e.3073.6112
SEQUENCE:3
DTSTAMP:20260424T154105Z
URL:https://business.losaltoschamber.org/events/details/genealogy-workshop-05-09-2026-6112
END:VEVENT

END:VCALENDAR
